BEGIN:VCALENDAR
VERSION:2.0
PRODID:-//Inštitut IPSA - ECPv5.1.2//NONSGML v1.0//EN
CALSCALE:GREGORIAN
METHOD:PUBLISH
X-WR-CALNAME:Inštitut IPSA
X-ORIGINAL-URL:https://www.ipsa.si/sl/
X-WR-CALDESC:Events for Inštitut IPSA
BEGIN:VTIMEZONE
TZID:Europe/Paris
BEGIN:DAYLIGHT
TZOFFSETFROM:+0100
TZOFFSETTO:+0200
TZNAME:CEST
DTSTART:20190331T010000
END:DAYLIGHT
BEGIN:STANDARD
TZOFFSETFROM:+0200
TZOFFSETTO:+0100
TZNAME:CET
DTSTART:20191027T010000
END:STANDARD
END:VTIMEZONE
BEGIN:VEVENT
DTSTART;TZID=Europe/Paris:20190921T090000
DTEND;TZID=Europe/Paris:20190922T180000
DTSTAMP:20260422T104553
CREATED:20190627T073811Z
LAST-MODIFIED:20190823T102337Z
UID:4330-1569056400-1569175200@www.ipsa.si
SUMMARY:NA SOČUTJE USMERJENA TERAPIJA (Compassion Focused Therapy - CFT)
DESCRIPTION:Vabimo vas na dvodnevno uvodno izobraževanje iz Na sočutje usmerjene terapije (CFT). CFT je terapija\, ki temelji na razvijanju sočutnega uma s pomočjo psihoterapevtskih metod\, zasnovanih na temeljnih psiholoških in nevrofizioloških procesih\, zaradi česar se ta terapevtski pristop usmerja k integrirani\, biopsihosocialni znanosti o psihoterapiji. CFT se uvršča med pristope tretjega vala kognitivno-vedenjske terapije\, ki uporablja procese čuječnosti (ang. mindfulness) in sočutje (ang. compassion) za razvijanje in negovanje globokega razumevanja in sočutja do sebe in drugih ljudi. \nNa delavnici bomo spoznali celovit uvod v teorijo CFT in na CFT zasnovane intervencije. Sočutje bomo raziskovali s perspektive novih evolucijskih pristopov\, kot tudi z vidika teorije navezanosti in čustvene regulacije. Delavnica bo usmerjena na  učenje praktičnih spretnosti za uporabo čuječnosti in sočutja v klinični praksi. \nVsebina izobraževanja:\n–          kako v okviru CFT naslavljamo trpljenje in sočutje (ang. compassion)\,\n–          neposredno izkustveno razumevanje CFT intervencij in procesa\,\n–          razumevanje načinov uporabe CFT intervencij v okviru psihoterapevtske obravnave. \n \nNačini dela:\nPoudarek bo na osnovnih konceptih\, osebni izkušnji in praktični uporabi CFT v psihoterapevtski praksi. Podana bo razlaga CFT tehnik\, čemur bo sledila osebna izkušnja in integracija v proces terapije. Posebna pozornost bo namenjena razumevanju transdiagnostičnih procesov sramu in samokritike ter uporabi učinkovitih terapevtskih intervencij\, zasnovanih na čuječnosti in sočutju. \nIzkustvene vaje bodo izvedene individualno\, v parih ali manjših skupinah z namenom razumevanja\, kako lahko terapevt uporablja principe čuječnosti in sočutja za spreminjanje klientovega odnosa do trpljenja in s tem povezanega sramu in samoobtoževanja ter za usmerjanje v globoko razumevanje in razvijanje sočutja do sebe in drugih. \n  \nVODJA IZOBRAŽEVANJA:\n Prof. Igor Krnetić je doktor psihologije\, KVT\, REBT (ang. Rational emotive behavior therapy)\, ACT terapevt in terapevt na sočutje usmerjene terapije (CFT). Je izredni profesor za klinično psihologijo (Oddelek za psihologijo\, Banja Luka). KVT in REBT pri svojem kliničnem delu uporablja od leta 2002\, izobraževanja in supervizijo iz vedenjsko-kognitivne terapije pa izvaja od leta 2007. CFT uporablja od leta 2013. Izobraževal se je pri ustanovitelju CFT\, Paulu Gilbertu\, s katerim sta skupaj napisala tudi poglavje o CFT v knjigi o VKT (“KBT danas: razvoj i promene”).\nDoslej je vodil več kot 25 izobraževanj iz tretjega vala kognitivno-vedenjske terapije v številnih mestih Zahodnega Balkana. Izobraževanja iz CFT vodi v Banja Luki\, Sarajevu\, Novem Sadu in Beogradu. Več informacij o Igorju in izobraževanjih lahko najdete na: www.krnetic.com; www.centarzakbt.org. \nKomu je izobraževanje iz CFT namenjeno? \nIzobraževanje je namenjeno psihologom\, specialistom ali specializantom psihiatrije\, psihoterapevtom ali edukantom psihoterapije. \nIzobraževanje bo potekalo v bosanskem jeziku.\n \nPRISPEVEK: \nPrispevek za dvodnevno delavnico znaša na osebo 220 EUR + 22 % DDV. \nPRIJAVE: \nŠtevilo mest je omejeno\, zato bomo upoštevali prijave po vrstnem redu. Ob prijavi nakažite kotizacijo na račun Inštituta IPSA (Naziv: Inštitut IPSA. Zg. Gameljne 55a\, 1211 Lj-Šmartno. Transakcijski račun: 020320254270905). Prijave zbiramo do 10.9.2019. V primeru vaše odjave štirinajst dni pred začetkom delavnice vplačano kotizacijo zadržimo. \n
URL:https://www.ipsa.si/sl/event/na-socutje-usmerjena-terapija-compassion-focused-therapy-cft/
LOCATION:Inštitut IPSA\, Stegne 7\, Ljubljana\, 1000\, Slovenija
ATTACH;FMTTYPE=image/jpeg:https://www.ipsa.si/wp-content/uploads/2019/06/IMG_4806.jpg
ORGANIZER;CN="In%C5%A1titut%20IPSA":MAILTO:info@institut-ipsa.si
END:VEVENT
END:VCALENDAR