BEGIN:VCALENDAR
VERSION:2.0
PRODID:-//Inštitut IPSA - ECPv5.1.2//NONSGML v1.0//EN
CALSCALE:GREGORIAN
METHOD:PUBLISH
X-WR-CALNAME:Inštitut IPSA
X-ORIGINAL-URL:https://www.ipsa.si/sl/
X-WR-CALDESC:Events for Inštitut IPSA
BEGIN:VTIMEZONE
TZID:Europe/Paris
BEGIN:DAYLIGHT
TZOFFSETFROM:+0100
TZOFFSETTO:+0200
TZNAME:CEST
DTSTART:20240331T010000
END:DAYLIGHT
BEGIN:STANDARD
TZOFFSETFROM:+0200
TZOFFSETTO:+0100
TZNAME:CET
DTSTART:20241027T010000
END:STANDARD
END:VTIMEZONE
BEGIN:VEVENT
DTSTART;TZID=Europe/Paris:20240122T180000
DTEND;TZID=Europe/Paris:20240122T190000
DTSTAMP:20260424T084147
CREATED:20240112T154114Z
LAST-MODIFIED:20240112T154114Z
UID:6027-1705946400-1705950000@www.ipsa.si
SUMMARY:PSIHOTERAPEVT V STISKI IN POMEN SUPERVIZIJE
DESCRIPTION:PSIHOTERAPEVT V STISKI IN POMEN SUPERVIZIJE\nPogovor z dr. Mašo Žvelc in dr. Gregorjem Žvelcem ob izidu knjige\nČuječnost in sočutje v integrativni superviziji (Routledge\, 2024) \nDoc. dr. Maša Žvelc (Oddelek za psihologijo\, Univerza na Primorskem; Inštitut IPSA) in prof. dr. Gregor Žvelc (Oddelek za psihologijo\, Univerza v Ljubljani) bosta občinstvu predstavila glavne ideje svoje nove knjige Čuječnost in sočutje v integrativni superviziji\, ki je izšla v mednarodni založbi Routledge. Pogovor bo vodila njuna strokovna kolegica dr. Tanja Šraj Lebar. \nOb soočanju s težkimi platmi človekovega bivanja psihoterapevti pogosto doživljajo močna občutja\, ki jih lahko preplavijo ali pa se zaščitijo s čustvenim umikom. Oba procesa\, zlivanje in izogibanje\, vplivata na terapevtovo stanje »biti« v terapiji in mu onemogočata biti prisoten. V knjigi Čuječnost in sočutje v integrativni superviziji avtorja podata odgovore\, kako v superviziji pomagati terapevtom\, da se zavedo svojih čustvenih in fizioloških stanj\, kako naj se čustveno regulirajo ter kako naj se povežejo s seboj na sočuten in prijazen način. Uvajanje čuječnega zavedanja in sočutja do sebe v superviziji in posledično v psihoterapiji izboljšuje tako kvaliteto terapevtske prakse kot tudi pomaga pri terapevtovi skrbi zase ter prevenciji čustvenega distresa in izgorevanja. \nMonografija v angleškem jeziku\, izdana pri mednarodni založbi Routledge\, ponuja inovativne teoretske ideje\, raziskovalne izsledke in praktične usmeritve\, ki se nanašajo na uporabo čuječnosti in sočutja za namen transformacije terapevtovih čustvenih\, fizioloških in kognitivnih stanj v smeri čustvene regulacije in učinkovite refleksije terapevtov. Knjiga je razdeljena na dva dela; v prvem so podani teoretski temelji\, v drugem pa opisane supervizijske metode\, ki\ntemeljijo na čuječnosti in sočutju. Knjiga ponuja mnogo primerov iz supervizijske prakse\, vključno z dobesednimi dialogi med supervizorjem in supervizanti. \nVeč o knjigi:\nhttps://www.routledge.com/Mindfulness-and-Compassion-in-Integrative-Supervision/Zvelc-Zvelc/p/book/9781032046549 \nVeč o dogodku:\nhttps://www.mladinska-knjiga.si/dogodki/psihoterapevt-v-stiski-pomen-supervizije \n
URL:https://www.ipsa.si/sl/event/izobrazevanje-iz-transakcijsko-analiticne-psihoterapije-3-10/
LOCATION:Mladinska knjiga – Knjigarna in papirnica Konzorcij\, Slovenska cesta 29\, Ljubljana\, 1000\, Slovenija
ATTACH;FMTTYPE=image/jpeg:https://www.ipsa.si/wp-content/uploads/2024/01/Mindfulness-795x795-1.jpg
END:VEVENT
END:VCALENDAR